BEGIN:VCALENDAR
VERSION:2.0
PRODID:-//Studio Gelato - ECPv6.9.0//NONSGML v1.0//EN
CALSCALE:GREGORIAN
METHOD:PUBLISH
X-WR-CALNAME:Studio Gelato
X-ORIGINAL-URL:https://studio-gelato.de/en
X-WR-CALDESC:Events for Studio Gelato
REFRESH-INTERVAL;VALUE=DURATION:PT1H
X-Robots-Tag:noindex
X-PUBLISHED-TTL:PT1H
BEGIN:VTIMEZONE
TZID:UTC
BEGIN:STANDARD
TZOFFSETFROM:+0000
TZOFFSETTO:+0000
TZNAME:UTC
DTSTART:20250101T000000
END:STANDARD
END:VTIMEZONE
BEGIN:VEVENT
DTSTART;TZID=UTC:20250119T080000
DTEND;TZID=UTC:20250119T170000
DTSTAMP:20260422T072819
CREATED:20250119T155230Z
LAST-MODIFIED:20250119T155230Z
UID:6226-1737273600-1737306000@studio-gelato.de
SUMMARY:Schweppes Workshop
DESCRIPTION:Das ist der Schweppes Workshop
URL:https://studio-gelato.de/en/event/schweppes-workshop/
END:VEVENT
END:VCALENDAR